BEGIN:VCALENDAR
VERSION:2.0
PRODID:-//eventon.com NONSGML v1.0//EN
CALSCALE:GREGORIAN
METHOD:PUBLISH
BEGIN:VEVENT
UID:69e9dc2eb8db5
DTSTAMP:20260423T084534Z
DTSTART:20250226T180000Z
DTEND:20250226T190000Z
LOCATION:Human Harmonies McMinnville 1700 SW Old Sheridan Rd\,  McMinnville\,  OR 97128
SUMMARY:Qigong Workshop: Bone Health
DESCRIPTION:Strong Bones with Qigong Bone health plays an important role in
  the quality of our lives\,  especially as we age. Weight-bearing practices
  like Qigong are well documented to help maintain and restore bone density.
  Qigong also promotes a healthy bone function by using a centuries-old tapp
 ing and breathing technique. Workshop[..]\nhttps://humanharmonies.com/event
 s/qigong-workshop-bone-health/
URL:https://humanharmonies.com/events/qigong-workshop-bone-health/
END:VEVENT
END:VCALENDAR