BEGIN:VCALENDAR
VERSION:2.0
PRODID:-//eventon.com NONSGML v1.0//EN
CALSCALE:GREGORIAN
METHOD:PUBLISH
BEGIN:VEVENT
UID:69e4d963b404f
DTSTAMP:20260419T133219Z
DTSTART:20250426T124500Z
DTEND:20250426T133000Z
LOCATION:Millenium Park 300 Gardner St\,  Boston\,  MA 02132
SUMMARY:World Tai Chi Day - Free Class (Millenium Park in West Roxbury)
DESCRIPTION:Learn gentle Tai Chi and Qigong movements designed to release s
 tress and improve strength and balance. Well suited for beginners with a wi
 de range of physical abilities. Lesson will be held at the Millennium Park 
 in West Roxbury\,  weather permitting. In case of rain the lesson will be h
 eld at[..]\nhttps://humanharmonies.com/events/world-tai-chi-day-free-class-
 millenium-park-in-west-roxbury/
URL:https://humanharmonies.com/events/world-tai-chi-day-free-class-millenium-park-in-west-roxbury/
END:VEVENT
END:VCALENDAR