BEGIN:VCALENDAR
VERSION:2.0
PRODID:-//eventon.com NONSGML v1.0//EN
CALSCALE:GREGORIAN
METHOD:PUBLISH
BEGIN:VEVENT
UID:69e5fa51d57e1
DTSTAMP:20260420T100505Z
DTSTART:20250428T223000Z
DTEND:20250429T000000Z
LOCATION:Human Harmonies Swampscott 1005 Paradise Rd\,  Swampscott\,  MA 01907
SUMMARY:Martial Arts Demonstration
DESCRIPTION:Event includes Fundraiser\,  Raffle Drawing &amp; Presentation 
 to benefit PALS. PALS Animal  Life Savers is a non-profit\,  no-kill\,  fe
 line rescue group of more than 50 volunteers who rescue\,  foster\,  feed\,
   clean\,  socialize and find appropriate homes for lost\,  stray\,  abando
 ned\,  abused or surrendered cats.  Founded in 1995 as Friends of[..]\nhtt
 ps://humanharmonies.com/events/martial-arts-demonstration/
URL:https://humanharmonies.com/events/martial-arts-demonstration/
END:VEVENT
END:VCALENDAR