BEGIN:VCALENDAR
VERSION:2.0
PRODID:-//eventon.com NONSGML v1.0//EN
CALSCALE:GREGORIAN
METHOD:PUBLISH
BEGIN:VEVENT
UID:69e60238661f9
DTSTAMP:20260420T103848Z
DTSTART:20251212T020000Z
DTEND:20251212T030000Z
LOCATION:Human Harmonies Littleton 5856 S Lowell Blvd #29\,  Littleton\,  CO 80123
SUMMARY:Holiday Stress Relief Seminar
DESCRIPTION:The holidays are joyful and busy. Take an hour out of your week
  with your family and friends to relax with us. Join us on Thursday Decembe
 r 11 at 7pm to learn the best way to relax during this busy season!! &nbsp;
  Human Harmonies is a Tai Chi\,  Qi Gong[..]\nhttps://humanharmonies.com/ev
 ents/holiday-stress-relief-seminar/
URL:https://humanharmonies.com/events/holiday-stress-relief-seminar/
END:VEVENT
END:VCALENDAR