BEGIN:VCALENDAR
VERSION:2.0
PRODID:-//eventon.com NONSGML v1.0//EN
CALSCALE:GREGORIAN
METHOD:PUBLISH
BEGIN:VEVENT
UID:69e5e83f95714
DTSTAMP:20260420T084759Z
DTSTART:20260224T230000Z
DTEND:20260224T234500Z
LOCATION:Human Harmonies West Roxbury 1739 Centre St West Roxbury\,  MA
SUMMARY:Free Tai Chi Class (West Roxbury)
DESCRIPTION:Learn gentle Tai Chi and Qigong movements designed to release s
 tress and improve strength and balance Learn gentle Tai Chi movements desig
 ned to release stress and improve strength and balance. Tai Chi is a mindfu
 l health practice used to develop the body and mind. Join us as we focus on
 [..]\nhttps://humanharmonies.com/events/free-tai-chi-class-west-roxbury/
URL:https://humanharmonies.com/events/free-tai-chi-class-west-roxbury/
END:VEVENT
END:VCALENDAR